BEGIN:VCALENDAR
VERSION:2.0
PRODID:-//Venger Arstun//NONSGML kigkonsult.se iCalcreator 2.41.92//
CALSCALE:GREGORIAN
METHOD:PUBLISH
UID:37313834-3635-4337-b063-396532653933
X-WR-CALNAME:iCagenda
X-WR-CALDESC:Event Management Extension for Joomla!
X-WR-RELCALID:3E26604A-50F4-4449-8B3E-E4F4932D05B5
X-WR-TIMEZONE:Europe/Oslo
BEGIN:VTIMEZONE
TZID:Europe/Oslo
TZUNTIL:20281029T010000Z
BEGIN:STANDARD
TZNAME:CET
DTSTART:20251026T030000
TZOFFSETFROM:+0200
TZOFFSETTO:+0100
RDATE:20261025T030000
RDATE:20271031T030000
END:STANDARD
BEGIN:DAYLIGHT
TZNAME:CEST
DTSTART:20260329T020000
TZOFFSETFROM:+0100
TZOFFSETTO:+0200
RDATE:20270328T020000
RDATE:20280326T020000
END:DAYLIGHT
END:VTIMEZONE
BEGIN:VEVENT
UID:33356664-3137-4530-b432-626461396563
DTSTAMP:20260424T111521Z
CATEGORIES:Primstaven vinter
CLASS:PUBLIC
DESCRIPTION;ALTREP="CID:<FFFF__=0ABBE548DFE235B58f9e8a93d@coffeebean.com>":
 Begynnelsen på primstavens vinterside\nHelgen: St. Calixtus\, Callistus\nM
 erke: Har en vante til Mærke\, at man da maae begynde at væbne sig mot Kul
 den.\nVærmerke: Snø gir godt vintervær. Fra nå av skal hesten ha bjelle. F
 lyttedag for tjenstefolket.
DTSTART:20261013T220000Z
DTEND:20261013T220000Z
GEO:00;0
LOCATION:
ORGANIZER:
SEQUENCE:1
SUMMARY:Vinternatt\, 14. oktober
TRANSP:OPAQUE
URL:https://vengergarden.no/index.php/merkedager/1-vinternatt-14-oktober/20
 26-10-14-00-00?layout=vcal
END:VEVENT
END:VCALENDAR
