BEGIN:VCALENDAR
VERSION:2.0
PRODID:-//Venger Arstun//NONSGML kigkonsult.se iCalcreator 2.41.92//
CALSCALE:GREGORIAN
METHOD:PUBLISH
UID:63336538-6165-4939-a461-333039396330
X-WR-CALNAME:iCagenda
X-WR-CALDESC:Event Management Extension for Joomla!
X-WR-RELCALID:3E26604A-50F4-4449-8B3E-E4F4932D05B5
X-WR-TIMEZONE:Europe/Oslo
BEGIN:VTIMEZONE
TZID:Europe/Oslo
TZUNTIL:20310330T010000Z
BEGIN:STANDARD
TZNAME:CET
DTSTART:20281029T030000
TZOFFSETFROM:+0200
TZOFFSETTO:+0100
RDATE:20291028T030000
RDATE:20301027T030000
END:STANDARD
BEGIN:DAYLIGHT
TZNAME:CEST
DTSTART:20290325T020000
TZOFFSETFROM:+0100
TZOFFSETTO:+0200
RDATE:20300331T020000
END:DAYLIGHT
END:VTIMEZONE
BEGIN:VEVENT
UID:34383963-6138-4032-b065-343461636535
DTSTAMP:20260424T111455Z
CATEGORIES:Primstaven sommer
CLASS:PUBLIC
DESCRIPTION;ALTREP="CID:<FFFF__=0ABBE548DFE235B58f9e8a93d@coffeebean.com>":
 Jakobsmesse\, Jakob Våthatt\, JakobsokHelgen: Apostelen Jakob den eldre.Me
 rke: Hatt\, toarmet kors\, sverd eller stavVærmerke: Regn idag varsler våt
  høst.
DTSTART:20290724T220100Z
DTEND:20290724T220100Z
GEO:00;0
LOCATION:
ORGANIZER:
SEQUENCE:1
SUMMARY:Jakobsmesse\, 25. juli
TRANSP:OPAQUE
URL:https://vengergarden.no/index.php/merkedager/66-jakobsmesse-25-juli/202
 9-07-25-00-01?layout=vcal
END:VEVENT
END:VCALENDAR
