BEGIN:VCALENDAR
VERSION:2.0
PRODID:-//Venger Arstun//NONSGML kigkonsult.se iCalcreator 2.41.92//
CALSCALE:GREGORIAN
METHOD:PUBLISH
UID:36663234-6431-4834-b438-393332653764
X-WR-CALNAME:iCagenda
X-WR-CALDESC:Event Management Extension for Joomla!
X-WR-RELCALID:3E26604A-50F4-4449-8B3E-E4F4932D05B5
X-WR-TIMEZONE:Europe/Oslo
BEGIN:VTIMEZONE
TZID:Europe/Oslo
TZUNTIL:20311026T010000Z
BEGIN:STANDARD
TZNAME:CET
DTSTART:20281029T030000
TZOFFSETFROM:+0200
TZOFFSETTO:+0100
RDATE:20291028T030000
RDATE:20301027T030000
END:STANDARD
BEGIN:DAYLIGHT
TZNAME:CEST
DTSTART:20290325T020000
TZOFFSETFROM:+0100
TZOFFSETTO:+0200
RDATE:20300331T020000
RDATE:20310330T020000
END:DAYLIGHT
END:VTIMEZONE
BEGIN:VEVENT
UID:30386432-6535-4564-a636-373433666236
DTSTAMP:20260424T111457Z
CATEGORIES:Primstaven sommer
CLASS:PUBLIC
DESCRIPTION;ALTREP="CID:<FFFF__=0ABBE548DFE235B58f9e8a93d@coffeebean.com>":
 Mikkelsmesse\, erkeengelen Mikaels dag.Helligdag i Norge frem til 1770.\nD
 e hellige erkeengler Mikael\, Gabriel og Rafael\nTakkefest\, skurdegraut.
 \nMerke: Engelens ansikt med stråleglans\, skålvekt.Værmerke: Været er sli
 k det blir neste sommer.\nAvlingene og dyra skal være i hus.
DTSTART:20290928T220100Z
DTEND:20290928T220100Z
GEO:00;0
LOCATION:
ORGANIZER:
SEQUENCE:1
SUMMARY:Mikkelsmesse\, 29. september
TRANSP:OPAQUE
URL:https://vengergarden.no/index.php/merkedager/82-mikkelsmesse-29-septemb
 er/2029-09-29-00-01?layout=vcal
END:VEVENT
END:VCALENDAR
